BEGIN:VCALENDAR
VERSION:2.0
PRODID:-//wp-events-plugin.com//6.5//EN
BEGIN:VEVENT
UID:54-7292@beijing.swea.org
DTSTART:20250211T183000Z
DTEND:20250211T200000Z
DTSTAMP:20241203T031245Z
URL:https://beijing.swea.org/events/arsmote-swea-beijing/
SUMMARY:Årsmöte SWEA Beijing
DESCRIPTION:
LOCATION:Cathay view\, No2GuangshanRoad\, Beijing\, Beijing\, Kina
GEO:39.904211;116.407395
X-APPLE-STRUCTURED-LOCATION;VALUE=URI;X-ADDRESS=No2GuangshanRoad\, Beijing\
 , Beijing\, Kina;X-APPLE-RADIUS=100;X-TITLE=Cathay view:geo:39.904211,116.
 407395
END:VEVENT
END:VCALENDAR